BEGIN:VCALENDAR
VERSION:2.0
PRODID:icalendar-ruby
CALSCALE:GREGORIAN
METHOD:PUBLISH
BEGIN:VEVENT
DTSTAMP:20260424T110350Z
UID:65668da4-4bfe-449d-96a8-7f10a093b61b
DTSTART:20241010T143000
DTEND:20241010T153000
DESCRIPTION:<p><span>An in-depth exploration of the complex world of modern
  design. This masterclass will delve into how cultural shifts and technolo
 gical advancements are reshaping industry. We'll discuss strategies for ov
 ercoming obstacles and turning big ideas into reality in a rapidly changin
 g landscape. Discover the potential of AI to enhance creativity while navi
 gating ethical considerations. We'll also explore how to maintain a strong
  company culture and foster innovation in the hybrid work environment.</sp
 an></p><p><br></p><p><span>The topics to be covered during the "How to get
  a design elephant through the door" Design Masterclass are:</span></p><p>
 <strong>The future of design</strong></p><p><span>• Navigating the digit
 al frontier: How can designers adapt to emerging technologies like AI and 
 VR?</span></p><p><span>• Selling big ideas in a tough economy: Strategie
 s for convincing clients in challenging financial climates.</span></p><p><
 span>• Cultural nuances in design: Understanding the unique design chall
 enges and opportunities in Africa and the Middle East.</span></p><p><stron
 g>Inclusive and ethical design</strong></p><p><span>• Design for all: Cr
 eating accessible designs that cater to diverse audiences.</span></p><p><s
 pan>• Addressing biases and stereotypes: How can designers promote inclu
 sivity and avoid harmful representations?</span></p><p><span>• Diversity
  and representation: The importance of a diverse design community for inno
 vation and creativity.</span></p><p><strong>The hybrid workplace</strong><
 /p><p><span>• Navigating remote and in-person collaboration: Best practi
 ces for ePective hybrid work.</span></p><p><span>• Maintaining company c
 ulture: How to foster a strong sense of community in a hybrid environment.
 </span></p><p><br></p>
LOCATION:15 M59\, District Six\, Cape Town\, 7925
SUMMARY:Design MasterClass - How to get a Design Elephant through the door
URL;VALUE=URI:https://loeries.howler.co.za/designmasterclass
END:VEVENT
END:VCALENDAR
